BEGIN:VCALENDAR
VERSION:2.0
PRODID:-//Cinémathèque de la vielle du Luxembourg//Site web//FR
BEGIN:VEVENT
UID:556ac863-150b-4d50-8937-75a083fe37c7@cinematheque.lu
DTSTART;TZID=Europe/Monaco:20260131T160000
DTSTAMP:20260420T152045Z
SUMMARY:Grave of the Fireflies
LOCATION:https://www.cinematheque.lu/fr/programme/afternoon-adventures/grave-fireflies
END:VEVENT
END:VCALENDAR