BEGIN:VCALENDAR
VERSION:2.0
PRODID:-//Cinémathèque de la vielle du Luxembourg//Site web//FR
BEGIN:VEVENT
UID:5352c019-9e36-4bdc-9f5e-839ddfb2acf1@cinematheque.lu
DTSTART;TZID=Europe/Monaco:20260129T204500
DTSTAMP:20260422T180446Z
SUMMARY:I Spit on Your Grave
LOCATION:https://www.cinematheque.lu/fr/programme/vengeance-au-feminin/i-spit-your-grave
END:VEVENT
END:VCALENDAR