BEGIN:VCALENDAR
VERSION:2.0
PRODID:-//Cinémathèque de la vielle du Luxembourg//Site web//FR
BEGIN:VEVENT
UID:4e801810-e245-42dd-8080-ea6cf84d038e@cinematheque.lu
DTSTART;TZID=Europe/Monaco:20260616T203000
DTSTAMP:20260422T160053Z
SUMMARY:Black Swan
LOCATION:https://www.cinematheque.lu/fr/programme/cine-theatre/black-swan
END:VEVENT
END:VCALENDAR