BEGIN:VCALENDAR
VERSION:2.0
PRODID:-//Cinémathèque de la vielle du Luxembourg//Site web//FR
BEGIN:VEVENT
UID:dfc238ac-187b-48e2-8368-482a46bd726c@cinematheque.lu
DTSTART;TZID=Europe/Monaco:20260612T183000
DTSTAMP:20260422T143815Z
SUMMARY:A Double Life
LOCATION:https://www.cinematheque.lu/fr/programme/cine-theatre/double-life
END:VEVENT
END:VCALENDAR