BEGIN:VCALENDAR
VERSION:2.0
PRODID:-//Cinémathèque de la vielle du Luxembourg//Site web//FR
BEGIN:VEVENT
UID:0c5126fc-362a-4d16-a8a9-5a93d83027ac@cinematheque.lu
DTSTART;TZID=Europe/Monaco:20260617T201500
DTSTAMP:20260422T151716Z
SUMMARY:Living Bad
LOCATION:https://www.cinematheque.lu/fr/programme/joao-canijo/living-bad
END:VEVENT
END:VCALENDAR