BEGIN:VCALENDAR
VERSION:2.0
PRODID:-//Cinémathèque de la vielle du Luxembourg//Site web//FR
BEGIN:VEVENT
UID:e9bcc43f-019b-4eb6-afc3-3e9a71f02c83@cinematheque.lu
DTSTART;TZID=Europe/Monaco:20260617T183000
DTSTAMP:20260422T160206Z
SUMMARY:À bout de souffle
LOCATION:https://www.cinematheque.lu/fr/programme/la-nouvelle-vague/bout-de-souffle
END:VEVENT
END:VCALENDAR