BEGIN:VCALENDAR
VERSION:2.0
PRODID:-//Cinémathèque de la vielle du Luxembourg//Site web//FR
BEGIN:VEVENT
UID:e70fe963-c349-46fa-b0b1-4286c2e75a0a@cinematheque.lu
DTSTART;TZID=Europe/Monaco:20260616T183000
DTSTAMP:20260422T190225Z
SUMMARY:Insiang
LOCATION:https://www.cinematheque.lu/fr/programme/lino-brocka/insiang
END:VEVENT
END:VCALENDAR