BEGIN:VCALENDAR
VERSION:2.0
PRODID:-//Cinémathèque de la vielle du Luxembourg//Site web//FR
BEGIN:VEVENT
UID:c78f35e4-6cd3-4953-a8aa-324d530b48cc@cinematheque.lu
DTSTART;TZID=Europe/Monaco:20260614T193000
DTSTAMP:20260422T190108Z
SUMMARY:Bus Stop
LOCATION:https://www.cinematheque.lu/fr/programme/le-mystere-marilyn-monroe/bus-stop
END:VEVENT
END:VCALENDAR