BEGIN:VCALENDAR
VERSION:2.0
PRODID:-//Cinémathèque de la vielle du Luxembourg//Site web//FR
BEGIN:VEVENT
UID:95ced378-4475-40dc-8fb9-de5f4dc91abd@cinematheque.lu
DTSTART;TZID=Europe/Monaco:20260612T203000
DTSTAMP:20260422T160059Z
SUMMARY:Les Quatre Cents Coups
LOCATION:https://www.cinematheque.lu/fr/programme/la-nouvelle-vague/les-quatre-cents-coups
END:VEVENT
END:VCALENDAR