BEGIN:VCALENDAR
VERSION:2.0
PRODID:-//Cinémathèque de la vielle du Luxembourg//Site web//FR
BEGIN:VEVENT
UID:9a2c3fb8-dc41-4d24-97cd-074cbb71ea06@cinematheque.lu
DTSTART;TZID=Europe/Monaco:20260608T183000
DTSTAMP:20260422T161427Z
SUMMARY:Adieu Philippine
LOCATION:https://www.cinematheque.lu/fr/programme/la-nouvelle-vague/adieu-philippine
END:VEVENT
END:VCALENDAR