BEGIN:VCALENDAR
VERSION:2.0
PRODID:-//Cinémathèque de la vielle du Luxembourg//Site web//FR
BEGIN:VEVENT
UID:f9128ada-3757-4c56-9da1-aed31cd74f7d@cinematheque.lu
DTSTART;TZID=Europe/Monaco:20260527T183000
DTSTAMP:20260422T190922Z
SUMMARY:Le Beau Serge
LOCATION:https://www.cinematheque.lu/fr/programme/la-nouvelle-vague/le-beau-serge
END:VEVENT
END:VCALENDAR