BEGIN:VCALENDAR
VERSION:2.0
PRODID:-//Cinémathèque de la vielle du Luxembourg//Site web//FR
BEGIN:VEVENT
UID:2c0f0464-bd94-41f3-9325-ee029368e8b2@cinematheque.lu
DTSTART;TZID=Europe/Monaco:20260526T201500
DTSTAMP:20260422T160120Z
SUMMARY:The Seven Year Itch
LOCATION:https://www.cinematheque.lu/fr/programme/le-mystere-marilyn-monroe/seven-year-itch
END:VEVENT
END:VCALENDAR