BEGIN:VCALENDAR
VERSION:2.0
PRODID:-//Cinémathèque de la vielle du Luxembourg//Site web//FR
BEGIN:VEVENT
UID:cf5d2655-68fc-4dd3-af0c-4096fb5fb422@cinematheque.lu
DTSTART;TZID=Europe/Monaco:20260522T203000
DTSTAMP:20260422T160731Z
SUMMARY:Bona
LOCATION:https://www.cinematheque.lu/fr/programme/lino-brocka/bona
END:VEVENT
END:VCALENDAR