BEGIN:VCALENDAR
VERSION:2.0
PRODID:-//Cinémathèque de la vielle du Luxembourg//Site web//FR
BEGIN:VEVENT
UID:5bf89dcc-ee89-4106-844f-7dcef676a0ee@cinematheque.lu
DTSTART;TZID=Europe/Monaco:20260613T160000
DTSTAMP:20260420T195053Z
SUMMARY:La Tortue rouge
LOCATION:https://www.cinematheque.lu/fr/programme/afternoon-adventures/la-tortue-rouge
END:VEVENT
END:VCALENDAR