BEGIN:VCALENDAR
VERSION:2.0
PRODID:-//Cinémathèque de la vielle du Luxembourg//Site web//FR
BEGIN:VEVENT
UID:cbc20c98-913f-4e99-a0ed-02e24f78c07e@cinematheque.lu
DTSTART;TZID=Europe/Monaco:20251228T190000
DTSTAMP:20260423T154416Z
SUMMARY:Sentimental Value
LOCATION:https://www.cinematheque.lu/fr/programme/between-feierdeeg-screenings/sentimental-value
END:VEVENT
END:VCALENDAR