BEGIN:VCALENDAR
VERSION:2.0
PRODID:-//Cinémathèque de la vielle du Luxembourg//Site web//FR
BEGIN:VEVENT
UID:d2e5fcd1-c5ec-4e4f-ac5c-d9f65c4d90d8@cinematheque.lu
DTSTART;TZID=Europe/Monaco:20260613T203000
DTSTAMP:20260422T144430Z
SUMMARY:Nouvelle Vague
LOCATION:https://www.cinematheque.lu/fr/programme/la-nouvelle-vague/nouvelle-vague
END:VEVENT
END:VCALENDAR