BEGIN:VCALENDAR
VERSION:2.0
PRODID:-//Cinémathèque de la vielle du Luxembourg//Site web//FR
BEGIN:VEVENT
UID:cc0ee1d5-2c23-4851-adc8-e888b9149201@cinematheque.lu
DTSTART;TZID=Europe/Monaco:20260525T180000
DTSTAMP:20260422T163553Z
SUMMARY:Cléo de 5 à 7
LOCATION:https://www.cinematheque.lu/fr/programme/la-nouvelle-vague/cleo-de-5-7
END:VEVENT
END:VCALENDAR