BEGIN:VCALENDAR
VERSION:2.0
PRODID:-//Cinémathèque de la vielle du Luxembourg//Site web//FR
BEGIN:VEVENT
UID:bf7c16d2-54a6-494f-938b-d5973baee703@cinematheque.lu
DTSTART;TZID=Europe/Monaco:20260524T194500
DTSTAMP:20260422T173558Z
SUMMARY:The Misfits
LOCATION:https://www.cinematheque.lu/fr/programme/le-mystere-marilyn-monroe/misfits
END:VEVENT
END:VCALENDAR